Package: TMSig Version: 1.2.0 Command: /Library/Frameworks/R.framework/Resources/bin/R CMD build --keep-empty-dirs --no-resave-data TMSig StartedAt: 2025-04-21 17:53:00 -0400 (Mon, 21 Apr 2025) EndedAt: 2025-04-21 17:53:21 -0400 (Mon, 21 Apr 2025) EllapsedTime: 21.3 seconds RetCode: 0 Status: OK PackageFile: TMSig_1.2.0.tar.gz PackageFileSize: 3.428 MiB