Package: TIN Version: 1.42.0 Command: /home/biocbuild/bbs-3.22-bioc/R/bin/R CMD INSTALL TIN StartedAt: 2025-11-13 15:45:07 -0500 (Thu, 13 Nov 2025) EndedAt: 2025-11-13 15:45:30 -0500 (Thu, 13 Nov 2025) EllapsedTime: 23.1 seconds RetCode: 0 Status: OK