Package: TFutils Version: 1.30.0 Command: /home/biocbuild/bbs-3.22-bioc/R/bin/R CMD INSTALL TFutils StartedAt: 2025-11-13 15:56:58 -0500 (Thu, 13 Nov 2025) EndedAt: 2025-11-13 15:57:56 -0500 (Thu, 13 Nov 2025) EllapsedTime: 57.2 seconds RetCode: 0 Status: OK