Package: TFutils Version: 1.30.0 Command: /home/biocbuild/bbs-3.22-bioc/R/bin/R CMD check --install=check:TFutils.install-out.txt --library=/home/biocbuild/bbs-3.22-bioc/R/site-library --timings TFutils_1.30.0.tar.gz StartedAt: 2025-11-15 05:09:39 -0500 (Sat, 15 Nov 2025) EndedAt: 2025-11-15 05:18:04 -0500 (Sat, 15 Nov 2025) EllapsedTime: 504.5 seconds RetCode: 0 Status: OK CheckDir: TFutils.Rcheck Warnings: 0