Package: TFutils Version: 1.30.0 Command: /home/biocbuild/bbs-3.22-bioc/R/bin/R CMD build --keep-empty-dirs --no-resave-data --md5 TFutils StartedAt: 2025-11-13 20:37:32 -0500 (Thu, 13 Nov 2025) EndedAt: 2025-11-13 20:39:30 -0500 (Thu, 13 Nov 2025) EllapsedTime: 118.1 seconds RetCode: 0 Status: OK PackageFile: TFutils_1.30.0.tar.gz PackageFileSize: 5.97 MiB