Package: TFutils Version: 1.28.0 Command: /home/biocbuild/bbs-3.21-bioc/R/bin/R CMD build --keep-empty-dirs --no-resave-data TFutils StartedAt: 2025-10-15 20:17:46 -0400 (Wed, 15 Oct 2025) EndedAt: 2025-10-15 20:19:44 -0400 (Wed, 15 Oct 2025) EllapsedTime: 118.1 seconds RetCode: 0 Status: OK PackageFile: TFutils_1.28.0.tar.gz PackageFileSize: 5.968 MiB