Package: TFutils Version: 1.30.0 Command: rm -rf TFutils.buildbin-libdir && mkdir TFutils.buildbin-libdir && /Users/biocbuild/BBS/utils/build-universal.sh TFutils_1.30.0.tar.gz /Library/Frameworks/R.framework/Resources/bin/R TFutils.buildbin-libdir StartedAt: 2025-11-01 02:02:03 -0400 (Sat, 01 Nov 2025) EndedAt: 2025-11-01 02:03:26 -0400 (Sat, 01 Nov 2025) EllapsedTime: 82.6 seconds RetCode: 0 Status: OK PackageFile: TFutils_1.30.0.tgz PackageFileSize: 6.325 MiB