Package: TFutils Version: 1.28.0 Command: /home/biocbuild/R/R/bin/R CMD INSTALL TFutils StartedAt: 2025-10-06 21:12:28 -0000 (Mon, 06 Oct 2025) EndedAt: 2025-10-06 21:13:45 -0000 (Mon, 06 Oct 2025) EllapsedTime: 76.3 seconds RetCode: 0 Status: OK