Package: TFutils Version: 1.30.0 Command: /Library/Frameworks/R.framework/Resources/bin/R CMD INSTALL TFutils StartedAt: 2025-11-10 15:29:22 -0500 (Mon, 10 Nov 2025) EndedAt: 2025-11-10 15:29:45 -0500 (Mon, 10 Nov 2025) EllapsedTime: 22.8 seconds RetCode: 0 Status: OK