Package: TFutils Version: 1.30.0 Command: /Library/Frameworks/R.framework/Resources/bin/R CMD build --keep-empty-dirs --no-resave-data TFutils StartedAt: 2025-11-10 17:59:26 -0500 (Mon, 10 Nov 2025) EndedAt: 2025-11-10 18:00:33 -0500 (Mon, 10 Nov 2025) EllapsedTime: 66.7 seconds RetCode: 0 Status: OK PackageFile: TFutils_1.30.0.tar.gz PackageFileSize: 6.014 MiB