Package: TFutils Version: 1.30.0 Command: rm -rf TFutils.buildbin-libdir && mkdir TFutils.buildbin-libdir && /Users/biocbuild/BBS/utils/build-universal.sh TFutils_1.30.0.tar.gz /Library/Frameworks/R.framework/Resources/bin/R TFutils.buildbin-libdir StartedAt: 2025-11-10 23:39:27 -0500 (Mon, 10 Nov 2025) EndedAt: 2025-11-10 23:39:52 -0500 (Mon, 10 Nov 2025) EllapsedTime: 24.5 seconds RetCode: 0 Status: OK PackageFile: TFutils_1.30.0.tgz PackageFileSize: 6.329 MiB