Package: TFHAZ Version: 1.32.0 Command: /home/biocbuild/bbs-3.22-bioc/R/bin/R CMD INSTALL TFHAZ StartedAt: 2025-11-14 15:44:05 -0500 (Fri, 14 Nov 2025) EndedAt: 2025-11-14 15:44:48 -0500 (Fri, 14 Nov 2025) EllapsedTime: 43.1 seconds RetCode: 0 Status: OK