Package: TFEA.ChIP Version: 1.30.0 Command: /home/biocbuild/bbs-3.22-bioc/R/bin/R CMD INSTALL TFEA.ChIP StartedAt: 2025-11-11 15:45:32 -0500 (Tue, 11 Nov 2025) EndedAt: 2025-11-11 15:46:38 -0500 (Tue, 11 Nov 2025) EllapsedTime: 66.5 seconds RetCode: 0 Status: OK