Package: TFEA.ChIP Version: 1.30.0 Command: /home/biocbuild/bbs-3.22-bioc/R/bin/R CMD check --install=check:TFEA.ChIP.install-out.txt --library=/home/biocbuild/bbs-3.22-bioc/R/site-library --timings TFEA.ChIP_1.30.0.tar.gz StartedAt: 2025-11-15 05:09:14 -0500 (Sat, 15 Nov 2025) EndedAt: 2025-11-15 05:15:15 -0500 (Sat, 15 Nov 2025) EllapsedTime: 361.3 seconds RetCode: 0 Status: OK CheckDir: TFEA.ChIP.Rcheck Warnings: 0