Package: TFEA.ChIP Version: 1.30.0 Command: /Library/Frameworks/R.framework/Resources/bin/R CMD INSTALL TFEA.ChIP StartedAt: 2025-11-03 15:41:00 -0500 (Mon, 03 Nov 2025) EndedAt: 2025-11-03 15:42:23 -0500 (Mon, 03 Nov 2025) EllapsedTime: 83.4 seconds RetCode: 0 Status: OK