Package: TFEA.ChIP Version: 1.30.0 Command: /Library/Frameworks/R.framework/Resources/bin/R CMD build --keep-empty-dirs --no-resave-data TFEA.ChIP StartedAt: 2025-11-03 19:04:39 -0500 (Mon, 03 Nov 2025) EndedAt: 2025-11-03 19:06:31 -0500 (Mon, 03 Nov 2025) EllapsedTime: 112.2 seconds RetCode: 0 Status: OK PackageFile: TFEA.ChIP_1.30.0.tar.gz PackageFileSize: 6.772 MiB