Package: TFEA.ChIP Version: 1.30.0 Command: rm -rf TFEA.ChIP.buildbin-libdir && mkdir TFEA.ChIP.buildbin-libdir && /Users/biocbuild/BBS/utils/build-universal.sh TFEA.ChIP_1.30.0.tar.gz /Library/Frameworks/R.framework/Resources/bin/R TFEA.ChIP.buildbin-libdir StartedAt: 2025-11-04 02:08:22 -0500 (Tue, 04 Nov 2025) EndedAt: 2025-11-04 02:09:51 -0500 (Tue, 04 Nov 2025) EllapsedTime: 88.7 seconds RetCode: 0 Status: OK PackageFile: TFEA.ChIP_1.30.0.tgz PackageFileSize: 6.26 MiB