Package: TFEA.ChIP Version: 1.28.0 Command: /home/biocbuild/R/R/bin/R CMD INSTALL TFEA.ChIP StartedAt: 2025-10-13 20:54:33 -0000 (Mon, 13 Oct 2025) EndedAt: 2025-10-13 20:55:27 -0000 (Mon, 13 Oct 2025) EllapsedTime: 54.0 seconds RetCode: 0 Status: OK