Package: TFEA.ChIP Version: 1.28.0 Command: /home/biocbuild/R/R/bin/R CMD build --keep-empty-dirs --no-resave-data TFEA.ChIP StartedAt: 2025-10-14 05:21:30 -0000 (Tue, 14 Oct 2025) EndedAt: 2025-10-14 05:23:39 -0000 (Tue, 14 Oct 2025) EllapsedTime: 129.1 seconds RetCode: 0 Status: OK PackageFile: TFEA.ChIP_1.28.0.tar.gz PackageFileSize: 5.257 MiB