Package: TFEA.ChIP Version: 1.30.0 Maintainer: Yosra Berrouayel MaintainerEmail: yosraberrouayel at gmail.com git_url: https://git.bioconductor.org/packages/TFEA.ChIP git_branch: RELEASE_3_22 git_last_commit: 228e5ca git_last_commit_date: 2025-10-29 10:42:32 -0400 (Wed, 29 Oct 2025)