Package: TFBSTools Version: 1.48.0 Command: /home/biocbuild/R/R/bin/R CMD INSTALL TFBSTools StartedAt: 2025-11-13 21:59:16 -0000 (Thu, 13 Nov 2025) EndedAt: 2025-11-13 22:00:16 -0000 (Thu, 13 Nov 2025) EllapsedTime: 60.0 seconds RetCode: 0 Status: OK