Package: TFBSTools Version: 1.48.0 Command: /home/biocbuild/R/R/bin/R CMD build --keep-empty-dirs --no-resave-data TFBSTools StartedAt: 2025-11-14 05:56:52 -0000 (Fri, 14 Nov 2025) EndedAt: 2025-11-14 05:58:19 -0000 (Fri, 14 Nov 2025) EllapsedTime: 87.1 seconds RetCode: 0 Status: OK PackageFile: TFBSTools_1.48.0.tar.gz PackageFileSize: 516.1 KiB