Package: TFBSTools Version: 1.46.0 Command: /home/biocbuild/bbs-3.21-bioc/R/bin/R CMD INSTALL TFBSTools StartedAt: 2025-10-01 15:52:43 -0400 (Wed, 01 Oct 2025) EndedAt: 2025-10-01 15:53:27 -0400 (Wed, 01 Oct 2025) EllapsedTime: 44.2 seconds RetCode: 0 Status: OK