Package: TFBSTools Version: 1.46.0 Command: /Library/Frameworks/R.framework/Resources/bin/R CMD INSTALL TFBSTools StartedAt: 2025-10-13 16:29:52 -0400 (Mon, 13 Oct 2025) EndedAt: 2025-10-13 16:31:27 -0400 (Mon, 13 Oct 2025) EllapsedTime: 95.3 seconds RetCode: 0 Status: OK