Package: TFBSTools Version: 1.46.0 Command: rm -rf TFBSTools.buildbin-libdir && mkdir TFBSTools.buildbin-libdir && /Users/biocbuild/BBS/utils/build-universal.sh TFBSTools_1.46.0.tar.gz /Library/Frameworks/R.framework/Resources/bin/R TFBSTools.buildbin-libdir StartedAt: 2025-10-14 14:57:14 -0400 (Tue, 14 Oct 2025) EndedAt: 2025-10-14 14:59:05 -0400 (Tue, 14 Oct 2025) EllapsedTime: 111.1 seconds RetCode: 0 Status: OK PackageFile: TFBSTools_1.46.0.tgz PackageFileSize: 2.051 MiB