Package: TFBSTools Version: 1.46.0 Command: /Library/Frameworks/R.framework/Resources/bin/R CMD INSTALL TFBSTools StartedAt: 2025-10-02 17:57:39 -0400 (Thu, 02 Oct 2025) EndedAt: 2025-10-02 17:58:31 -0400 (Thu, 02 Oct 2025) EllapsedTime: 52.0 seconds RetCode: 0 Status: OK