Package: TFBSTools Version: 1.46.0 Command: /Library/Frameworks/R.framework/Resources/bin/R CMD build --keep-empty-dirs --no-resave-data TFBSTools StartedAt: 2025-10-03 10:51:29 -0400 (Fri, 03 Oct 2025) EndedAt: 2025-10-03 10:52:57 -0400 (Fri, 03 Oct 2025) EllapsedTime: 88.2 seconds RetCode: 0 Status: OK PackageFile: TFBSTools_1.46.0.tar.gz PackageFileSize: 1.043 MiB