Package: TFBSTools Version: 1.46.0 Command: rm -rf TFBSTools.buildbin-libdir && mkdir TFBSTools.buildbin-libdir && /Users/biocbuild/BBS/utils/build-universal.sh TFBSTools_1.46.0.tar.gz /Library/Frameworks/R.framework/Resources/bin/R TFBSTools.buildbin-libdir StartedAt: 2025-10-04 20:18:29 -0400 (Sat, 04 Oct 2025) EndedAt: 2025-10-04 20:19:27 -0400 (Sat, 04 Oct 2025) EllapsedTime: 57.5 seconds RetCode: 0 Status: OK PackageFile: TFBSTools_1.46.0.tgz PackageFileSize: 2.054 MiB