Back to Multiple platform build/check report for BioC 3.22:   simplified   long
ABCDEFGHIJKLMNOPQRS[T]UVWXYZ

This page was generated on 2025-11-12 11:57 -0500 (Wed, 12 Nov 2025).

HostnameOSArch (*)R versionInstalled pkgs
nebbiolo2Linux (Ubuntu 24.04.3 LTS)x86_644.5.1 Patched (2025-08-23 r88802) -- "Great Square Root" 4902
taishanLinux (openEuler 24.03 LTS)aarch644.5.0 (2025-04-11) -- "How About a Twenty-Six" 4668
Click on any hostname to see more info about the system (e.g. compilers)      (*) as reported by 'uname -p', except on Windows and Mac OS X

All results for package TFBSTools


To the developers/maintainers of the TFBSTools package:
- Allow up to 24 hours (and sometimes 48 hours) for your latest push to git@git.bioconductor.org:packages/TFBSTools.git to reflect on this report. See Troubleshooting Build Report for more information.
- Use the following Renviron settings to reproduce errors and warnings.
- If 'R CMD check' started to fail recently on the Linux builder(s) over a missing dependency, add the missing dependency to 'Suggests:' in your DESCRIPTION file. See Renviron.bioc for more information.

raw results

Package 2204/2361HostnameOS / ArchINSTALLBUILDCHECKBUILD BIN
TFBSTools 1.48.0  (landing page)
Ge Tan
Snapshot Date: 2025-11-11 13:45 -0500 (Tue, 11 Nov 2025)
git_url: https://git.bioconductor.org/packages/TFBSTools
git_branch: RELEASE_3_22
git_last_commit: 77e9a0e
git_last_commit_date: 2025-10-29 10:16:59 -0500 (Wed, 29 Oct 2025)
nebbiolo2Linux (Ubuntu 24.04.3 LTS) / x86_64  OK    OK    OK  UNNEEDED, same version is already published
taishanLinux (openEuler 24.03 LTS) / aarch64  OK    OK    OK  



Results for Bioconductor software packages that depend directly on package TFBSTools

QUICK STATSOS / ArchINSTALLBUILDCHECKBUILD BIN
nebbiolo2Linux (Ubuntu 24.04.3 LTS) / x86_64
0010
0010
0127
taishanLinux (openEuler 24.03 LTS) / aarch64
0010
0010
0127
Package 1/10HostnameOS / ArchINSTALLBUILDCHECKBUILD BIN
ATACseqTFEA 1.12.0  (landing page)
Jianhong Ou
git_last_commit: 77ec3ae
git_last_commit_date: 2025-10-29 11:18:13 -0500
nebbiolo2Linux (Ubuntu 24.04.3 LTS) / x86_64  OK    OK    OK  UNNEEDED, same version is already published
taishanLinux (openEuler 24.03 LTS) / aarch64  OK    OK    OK  
Package 2/10HostnameOS / ArchINSTALLBUILDCHECKBUILD BIN
chromVAR 1.32.0  (landing page)
Alicia Schep
git_last_commit: c67de98
git_last_commit_date: 2025-10-29 10:41:16 -0500
nebbiolo2Linux (Ubuntu 24.04.3 LTS) / x86_64  OK    OK    OK  UNNEEDED, same version is already published
taishanLinux (openEuler 24.03 LTS) / aarch64  OK    OK    OK  
Package 3/10HostnameOS / ArchINSTALLBUILDCHECKBUILD BIN
esATAC 1.32.0  (landing page)
Zheng Wei
git_last_commit: 6d7ce39
git_last_commit_date: 2025-10-29 10:42:12 -0500
nebbiolo2Linux (Ubuntu 24.04.3 LTS) / x86_64  OK    OK    OK  UNNEEDED, same version is already published
taishanLinux (openEuler 24.03 LTS) / aarch64  OK    OK    OK  
Package 4/10HostnameOS / ArchINSTALLBUILDCHECKBUILD BIN
MatrixRider 1.42.0  (landing page)
Elena Grassi
git_last_commit: a79a3cc
git_last_commit_date: 2025-10-29 10:24:34 -0500
nebbiolo2Linux (Ubuntu 24.04.3 LTS) / x86_64  OK    OK    WARNINGS  UNNEEDED, same version is already published
taishanLinux (openEuler 24.03 LTS) / aarch64  OK    OK    WARNINGS  
Package 5/10HostnameOS / ArchINSTALLBUILDCHECKBUILD BIN
MethReg 1.20.0  (landing page)
Tiago Silva
git_last_commit: a1982d5
git_last_commit_date: 2025-10-29 11:02:28 -0500
nebbiolo2Linux (Ubuntu 24.04.3 LTS) / x86_64  OK    OK    OK  UNNEEDED, same version is already published
taishanLinux (openEuler 24.03 LTS) / aarch64  OK    OK    OK  
Package 6/10HostnameOS / ArchINSTALLBUILDCHECKBUILD BIN
monaLisa 1.16.0  (landing page)
Michael Stadler
git_last_commit: fb7bf5b
git_last_commit_date: 2025-10-29 11:12:31 -0500
nebbiolo2Linux (Ubuntu 24.04.3 LTS) / x86_64  OK    OK    OK  UNNEEDED, same version is already published
taishanLinux (openEuler 24.03 LTS) / aarch64  OK    OK    OK  
Package 7/10HostnameOS / ArchINSTALLBUILDCHECKBUILD BIN
motifmatchr 1.32.0  (landing page)
Alicia Schep
git_last_commit: ef46b48
git_last_commit_date: 2025-10-29 10:38:55 -0500
nebbiolo2Linux (Ubuntu 24.04.3 LTS) / x86_64  OK    OK    OK  UNNEEDED, same version is already published
taishanLinux (openEuler 24.03 LTS) / aarch64  OK    OK    OK  
Package 8/10HostnameOS / ArchINSTALLBUILDCHECKBUILD BIN
motifStack 1.54.0  (landing page)
Jianhong Ou
git_last_commit: 6d8937d
git_last_commit_date: 2025-10-29 10:12:08 -0500
nebbiolo2Linux (Ubuntu 24.04.3 LTS) / x86_64  OK    OK    OK  UNNEEDED, same version is already published
taishanLinux (openEuler 24.03 LTS) / aarch64  OK    OK    OK  
Package 9/10HostnameOS / ArchINSTALLBUILDCHECKBUILD BIN
primirTSS 1.28.0  (landing page)
Pumin Li
git_last_commit: 9d01dbb
git_last_commit_date: 2025-10-29 10:47:22 -0500
nebbiolo2Linux (Ubuntu 24.04.3 LTS) / x86_64  OK    OK    WARNINGS  UNNEEDED, same version is already published
taishanLinux (openEuler 24.03 LTS) / aarch64  OK    OK    WARNINGS  
Package 10/10HostnameOS / ArchINSTALLBUILDCHECKBUILD BIN
spatzie 1.16.0  (landing page)
Jennifer Hammelman
git_last_commit: 7892310
git_last_commit_date: 2025-10-29 11:11:08 -0500
nebbiolo2Linux (Ubuntu 24.04.3 LTS) / x86_64  OK    OK    ERROR  
taishanLinux (openEuler 24.03 LTS) / aarch64  OK    OK    ERROR