Package: TFARM Version: 1.30.0 Command: /home/biocbuild/R/R/bin/R CMD INSTALL TFARM StartedAt: 2025-10-13 20:37:35 -0000 (Mon, 13 Oct 2025) EndedAt: 2025-10-13 20:37:57 -0000 (Mon, 13 Oct 2025) EllapsedTime: 22.1 seconds RetCode: 0 Status: OK