Package: TFARM Version: 1.30.0 Command: /home/biocbuild/R/R/bin/R CMD build --keep-empty-dirs --no-resave-data TFARM StartedAt: 2025-10-14 05:20:52 -0000 (Tue, 14 Oct 2025) EndedAt: 2025-10-14 05:23:06 -0000 (Tue, 14 Oct 2025) EllapsedTime: 134.1 seconds RetCode: 0 Status: OK PackageFile: TFARM_1.30.0.tar.gz PackageFileSize: 451.6 KiB