Package: TFARM Version: 1.32.0 Command: /Library/Frameworks/R.framework/Resources/bin/R CMD INSTALL TFARM StartedAt: 2025-11-03 15:11:06 -0500 (Mon, 03 Nov 2025) EndedAt: 2025-11-03 15:11:12 -0500 (Mon, 03 Nov 2025) EllapsedTime: 6.2 seconds RetCode: 0 Status: OK