Package: TFARM Version: 1.32.0 Command: /Library/Frameworks/R.framework/Resources/bin/R CMD build --keep-empty-dirs --no-resave-data TFARM StartedAt: 2025-10-30 17:58:32 -0400 (Thu, 30 Oct 2025) EndedAt: 2025-10-30 17:59:15 -0400 (Thu, 30 Oct 2025) EllapsedTime: 43.5 seconds RetCode: 0 Status: OK PackageFile: TFARM_1.32.0.tar.gz PackageFileSize: 470.9 KiB