Package: TEQC Version: 4.32.0 Command: /Library/Frameworks/R.framework/Resources/bin/R CMD INSTALL TEQC StartedAt: 2025-11-10 15:10:46 -0500 (Mon, 10 Nov 2025) EndedAt: 2025-11-10 15:10:51 -0500 (Mon, 10 Nov 2025) EllapsedTime: 5.9 seconds RetCode: 0 Status: OK