Package: TEQC Version: 4.32.0 Command: /Library/Frameworks/R.framework/Resources/bin/R CMD build --keep-empty-dirs --no-resave-data TEQC StartedAt: 2025-11-10 17:59:02 -0500 (Mon, 10 Nov 2025) EndedAt: 2025-11-10 17:59:13 -0500 (Mon, 10 Nov 2025) EllapsedTime: 11.1 seconds RetCode: 0 Status: OK PackageFile: TEQC_4.32.0.tar.gz PackageFileSize: 643.6 KiB