Package: TENxIO Version: 1.12.0 Command: /home/biocbuild/bbs-3.22-bioc/R/bin/R CMD INSTALL TENxIO StartedAt: 2025-11-11 15:39:55 -0500 (Tue, 11 Nov 2025) EndedAt: 2025-11-11 15:40:20 -0500 (Tue, 11 Nov 2025) EllapsedTime: 25.0 seconds RetCode: 0 Status: OK