Package: TENxIO Version: 1.12.0 Command: /home/biocbuild/bbs-3.22-bioc/R/bin/R CMD check --install=check:TENxIO.install-out.txt --library=/home/biocbuild/bbs-3.22-bioc/R/site-library --timings TENxIO_1.12.0.tar.gz StartedAt: 2025-11-21 05:24:06 -0500 (Fri, 21 Nov 2025) EndedAt: 2025-11-21 05:27:24 -0500 (Fri, 21 Nov 2025) EllapsedTime: 198.2 seconds RetCode: 0 Status: OK CheckDir: TENxIO.Rcheck Warnings: 0