Package: TENxIO Version: 1.12.0 Command: /Library/Frameworks/R.framework/Resources/bin/R CMD INSTALL TENxIO StartedAt: 2025-11-03 15:26:55 -0500 (Mon, 03 Nov 2025) EndedAt: 2025-11-03 15:27:30 -0500 (Mon, 03 Nov 2025) EllapsedTime: 35.8 seconds RetCode: 0 Status: OK