Package: TENxIO Version: 1.12.0 Command: /Library/Frameworks/R.framework/Resources/bin/R CMD build --keep-empty-dirs --no-resave-data TENxIO StartedAt: 2025-11-03 19:04:06 -0500 (Mon, 03 Nov 2025) EndedAt: 2025-11-03 19:04:53 -0500 (Mon, 03 Nov 2025) EllapsedTime: 46.7 seconds RetCode: 1 Status: ERROR PackageFile: None PackageFileSize: NA