Package: TENxIO Version: 1.10.2 Command: /home/biocbuild/R/R/bin/R CMD INSTALL TENxIO StartedAt: 2025-10-13 20:51:19 -0000 (Mon, 13 Oct 2025) EndedAt: 2025-10-13 20:51:57 -0000 (Mon, 13 Oct 2025) EllapsedTime: 38.2 seconds RetCode: 0 Status: OK