Package: TENxIO Version: 1.10.2 Command: /home/biocbuild/R/R/bin/R CMD build --keep-empty-dirs --no-resave-data TENxIO StartedAt: 2025-10-14 05:19:39 -0000 (Tue, 14 Oct 2025) EndedAt: 2025-10-14 05:20:42 -0000 (Tue, 14 Oct 2025) EllapsedTime: 63.0 seconds RetCode: 0 Status: OK PackageFile: TENxIO_1.10.2.tar.gz PackageFileSize: 283 KiB