Package: TENET Version: 1.2.0 Command: /home/biocbuild/bbs-3.22-bioc/R/bin/R CMD build --keep-empty-dirs --no-resave-data --md5 TENET StartedAt: 2025-11-13 20:35:42 -0500 (Thu, 13 Nov 2025) EndedAt: 2025-11-13 20:54:29 -0500 (Thu, 13 Nov 2025) EllapsedTime: 1126.4 seconds RetCode: 0 Status: OK PackageFile: TENET_1.2.0.tar.gz PackageFileSize: 1.791 MiB