Package: TEKRABber Version: 1.14.0 Command: /home/biocbuild/bbs-3.22-bioc/R/bin/R CMD INSTALL TEKRABber StartedAt: 2025-11-16 15:32:19 -0500 (Sun, 16 Nov 2025) EndedAt: 2025-11-16 15:33:02 -0500 (Sun, 16 Nov 2025) EllapsedTime: 42.7 seconds RetCode: 0 Status: OK