Package: TEKRABber Version: 1.14.0 Command: /home/biocbuild/bbs-3.22-bioc/R/bin/R CMD build --keep-empty-dirs --no-resave-data --md5 TEKRABber StartedAt: 2025-11-14 20:36:45 -0500 (Fri, 14 Nov 2025) EndedAt: 2025-11-14 20:38:40 -0500 (Fri, 14 Nov 2025) EllapsedTime: 115.4 seconds RetCode: 0 Status: OK PackageFile: TEKRABber_1.14.0.tar.gz PackageFileSize: 3.441 MiB