Package: TDbasedUFEadv Version: 1.10.0 Command: /home/biocbuild/bbs-3.22-bioc/R/bin/R CMD INSTALL TDbasedUFEadv StartedAt: 2025-11-13 15:51:25 -0500 (Thu, 13 Nov 2025) EndedAt: 2025-11-13 15:51:54 -0500 (Thu, 13 Nov 2025) EllapsedTime: 29.1 seconds RetCode: 0 Status: OK