Package: TDbasedUFEadv Version: 1.10.0 Command: /home/biocbuild/bbs-3.22-bioc/R/bin/R CMD check --install=check:TDbasedUFEadv.install-out.txt --library=/home/biocbuild/bbs-3.22-bioc/R/site-library --timings TDbasedUFEadv_1.10.0.tar.gz StartedAt: 2025-11-15 05:07:01 -0500 (Sat, 15 Nov 2025) EndedAt: 2025-11-15 05:13:51 -0500 (Sat, 15 Nov 2025) EllapsedTime: 410.3 seconds RetCode: 0 Status: OK CheckDir: TDbasedUFEadv.Rcheck Warnings: 0