Package: TDbasedUFEadv Version: 1.10.0 Command: /home/biocbuild/bbs-3.22-bioc/R/bin/R CMD build --keep-empty-dirs --no-resave-data --md5 TDbasedUFEadv StartedAt: 2025-11-13 20:35:33 -0500 (Thu, 13 Nov 2025) EndedAt: 2025-11-13 20:38:43 -0500 (Thu, 13 Nov 2025) EllapsedTime: 189.5 seconds RetCode: 0 Status: OK PackageFile: TDbasedUFEadv_1.10.0.tar.gz PackageFileSize: 3.78 MiB