Package: TDbasedUFEadv Version: 1.8.1 Command: /home/biocbuild/bbs-3.21-bioc/R/bin/R CMD build --keep-empty-dirs --no-resave-data TDbasedUFEadv StartedAt: 2025-10-15 20:16:17 -0400 (Wed, 15 Oct 2025) EndedAt: 2025-10-15 20:19:37 -0400 (Wed, 15 Oct 2025) EllapsedTime: 200.2 seconds RetCode: 0 Status: OK PackageFile: TDbasedUFEadv_1.8.1.tar.gz PackageFileSize: 3.779 MiB