Package: TDbasedUFEadv Version: 1.10.0 Command: /Library/Frameworks/R.framework/Resources/bin/R CMD INSTALL TDbasedUFEadv StartedAt: 2025-10-30 15:39:20 -0400 (Thu, 30 Oct 2025) EndedAt: 2025-10-30 15:39:57 -0400 (Thu, 30 Oct 2025) EllapsedTime: 37.5 seconds RetCode: 0 Status: OK