Package: TDbasedUFEadv Version: 1.10.0 Command: /Library/Frameworks/R.framework/Resources/bin/R CMD build --keep-empty-dirs --no-resave-data TDbasedUFEadv StartedAt: 2025-10-30 18:55:06 -0400 (Thu, 30 Oct 2025) EndedAt: 2025-10-30 18:58:47 -0400 (Thu, 30 Oct 2025) EllapsedTime: 220.8 seconds RetCode: 0 Status: OK PackageFile: TDbasedUFEadv_1.10.0.tar.gz PackageFileSize: 4.022 MiB